BEGIN:VCALENDAR
VERSION:2.0
PRODID:-//wp-events-plugin.com//7.2.3.1//EN
TZID:Europe/Berlin
X-WR-TIMEZONE:Europe/Berlin
BEGIN:VEVENT
UID:593@flohmarktkalender.com
DTSTART;TZID=Europe/Berlin:20250406T100000
DTEND;TZID=Europe/Berlin:20250406T160000
DTSTAMP:20250318T092813Z
URL:https://www.flohmarktkalender.com/termin/1-kleukheimer-dorfflohmarkt/
SUMMARY:1. Kleukheimer Dorfflohmarkt
DESCRIPTION:1. Kleukheimer Dorfflohmarkt\nAm 6. April 2025 von 10 bis 16 Uh
 r verwandelt sich ganz Kleukheim in ein riesiges Flohmarktparadies! Über 
 60 Stände laden zum Stöbern\, Feilschen und Entdecken ein – von Kleidu
 ng über Spielsachen bis hin zu echten Schätzen.\n\nFür den perfekten Sh
 opping-Tag gibt es:\n✔️ Frischen Kaffee ☕\n✔️ Leckere Kuchen &am
 p\; Torten\n✔️ Bratwürste &amp\; kühle Getränke\n\nOrt: Kleukheim 
 – überall im Dorf!\nWann? Sonntag\, 6. April 2025 | 10:00 – 16:00 Uhr
 \n\nHier geht’s zum aktuellen Standplan:\nhttps://bit.ly/DorfflohmarktKl
 eukheim\n\nKomm vorbei und genieße einen tollen Tag mit Familie und Freun
 den! Wir freuen uns auf dich!
CATEGORIES:Flohmarkt,Haus- &amp; Wohnungsflohmarkt,Vereinsflohmarkt
LOCATION:96250 Kleukheim\, 96250 Kleukheim\, Kleukheim\, Lichtenfels\, 9625
 0\, Bayern\, Deutschland
GEO:50.03424;11.005172
X-APPLE-STRUCTURED-LOCATION;VALUE=URI;X-ADDRESS=96250 Kleukheim\, Kleukheim
 \, Lichtenfels\, 96250\, Bayern\, Deutschland;X-APPLE-RADIUS=100;X-TITLE=9
 6250 Kleukheim:geo:50.03424,11.005172
END:VEVENT
BEGIN:VTIMEZONE
TZID:Europe/Berlin
X-LIC-LOCATION:Europe/Berlin
BEGIN:DAYLIGHT
DTSTART:20250330T030000
TZOFFSETFROM:+0100
TZOFFSETTO:+0200
TZNAME:CEST
END:DAYLIGHT
END:VTIMEZONE
END:VCALENDAR