BEGIN:VCALENDAR
VERSION:2.0
PRODID:-//wp-events-plugin.com//7.2.3.1//EN
TZID:Europe/Berlin
X-WR-TIMEZONE:Europe/Berlin
BEGIN:VEVENT
UID:684@flohmarktkalender.com
DTSTART;TZID=Europe/Berlin:20250720T080000
DTEND;TZID=Europe/Berlin:20250720T150000
DTSTAMP:20250326T185252Z
URL:https://www.flohmarktkalender.com/termin/13-flohmarkt-seeon/
SUMMARY:13. Flohmarkt Seeon
DESCRIPTION:13. Flohmarkt Seeon\n13. Großer Jahresflohmarkt am Sonntag\, 2
 0. Juli in Seeon\, in der Nähe vom Chiemsee. Der Seeoner Flohmarkt hat si
 ch in den letzten Jahren zu einem der größten Flohmärkte im Chiemgau en
 twickelt. Dauer von 8-15 Uhr. Zwischen 200 und 300 Händler sind am modern
 en Sportgelände dabei. Für die Besucher gibt es Parkplätze direkt am Ge
 lände.\nFür Aussteller:\nKeine Anmeldung möglich. Einweisung ab ca. 6:3
 0 Uhr\, je nach Andrang. Beginn um 8 Uhr\, Ende um 15 Uhr. Auto am Stand m
 öglich. Flohmarktgelände vorrangig auf Wiese und geteertem Parkplatz. St
 andgebühr 5 EUR je lfd. Meter. Überdachungen/Markisen/Zelte/Pavillons bi
 s max. 3x3m erlaubt. Keine vorzeitige Ausfahrt möglich.\nFür Besucher:\n
 Parkplätze direkt am Sportgelände\, sie werden eingewiesen. Start um 8 U
 hr\, Ende um 15 Uhr. Für Bewirtung ist gesorgt (Gegrilltes\, Kaffee &amp\
 ; Kuchen). Toiletten direkt in der Sporthalle.Infos: www.sv-seeon.de/flohm
 arkt\n\n\n\nOrt der Veranstaltung: \nAm Sportplatz 4\, 83370 Seeon\n\n
ATTACH;FMTTYPE=image/jpeg:https://www.flohmarktkalender.com/wp-content/upl
 oads/2025/03/flohmarkt_2025_fb-724x1024-1.jpg
CATEGORIES:Flohmarkt,Kinderflohmarkt,Vereinsflohmarkt
LOCATION:83370 Seeon\, 83370 Seeon\, Seeon\, Traunstein\, 83370\, Bayern\, 
 Deutschland
GEO:47.975796;12.461121
X-APPLE-STRUCTURED-LOCATION;VALUE=URI;X-ADDRESS=83370 Seeon\, Seeon\, Traun
 stein\, 83370\, Bayern\, Deutschland;X-APPLE-RADIUS=100;X-TITLE=83370 Seeo
 n:geo:47.975796,12.461121
END:VEVENT
BEGIN:VTIMEZONE
TZID:Europe/Berlin
X-LIC-LOCATION:Europe/Berlin
BEGIN:DAYLIGHT
DTSTART:20250330T030000
TZOFFSETFROM:+0100
TZOFFSETTO:+0200
TZNAME:CEST
END:DAYLIGHT
END:VTIMEZONE
END:VCALENDAR