BEGIN:VCALENDAR
VERSION:2.0
PRODID:-//wp-events-plugin.com//7.2.3.1//EN
TZID:Europe/Berlin
X-WR-TIMEZONE:Europe/Berlin
BEGIN:VEVENT
UID:1581@flohmarktkalender.com
DTSTART;TZID=Europe/Berlin:20260509T100000
DTEND;TZID=Europe/Berlin:20260510T173000
DTSTAMP:20260421T081032Z
URL:https://www.flohmarktkalender.com/termin/antik-markt-und-franzoesische
 r-brocante-und-vintage-markt-in-schloss-dennenlohe/
SUMMARY:französischer BROCANTE ANTIK-MARKT/VINTAGE-MARKT/PFLANZENVERKAUF i
 n Schloss Dennenlohe
DESCRIPTION:ANTIKES\, RETRO\, VINTAGE\, MID CENTURY und ANTIQUITÄTEN: ANTI
 KMARKT &amp\; BROCANTE in Schloss Dennenlohe\n\nWir freuen uns auf Ihr Kom
 men! Bei uns gibt es Möbel\, Lampen\, Sammelsurien\, Kuriositäten\, Gesc
 hirr\, Tische\, Stühle\, Spiegel und Vintage-Kleidung - zusammengetragen 
 in England\, Frankreich\, Österreich und natürlich vom Dachboden des Sch
 losses "Dennenlohe". Eine außergewöhnliche Auswahl an besonderen Stücke
 n erwartet Sie - vom Chinesischen Hochzeitsschrank aus dem 19. Jahrhundert
  bis "Sammeltassen". All das im wunderschönen Ambiente des Gutshofes Denn
 enlohe - 600 Quadratmeter voll mit ungewöhnlichen Dingen\, die für jede 
 Wohnung\, für jedes Haus\, für jeden Sammler etwas bieten.\n\nACHTUNG - 
 ERSTMALS AUCH MIT PFLANZENVERKAUF\, darunter Raritäten von Kräutern und 
 Gemüsen. \nWir freuen uns auf Sie und öffnen wieder einmal unsere Pfort
 en!\n01. bis 03. Mai 2026 - 10 bis 17.30 Uhr\n\nweitere Termine in 2026:\n
 \n14. bis 17. Mai 2026 - 10 bis 17.30 Uhr\n\n04. bis 07. Juni 2026 - 10 bi
 s 17. 30 Uhr\n\n13. bis 14. Juni 2026 - 10 bis 17.30 Uhr\n\n20. bis 21. Ju
 ni 2025 - 10 bis 17.30 Uhr\n\n\n\n\n
CATEGORIES:Antikmarkt,Flohmarkt
LOCATION:91743 Unterschwaningen\, 91743 Unterschwaningen\, Unterschwaningen
 \, Ansbach\, 91743\, Bayern\, Deutschland
GEO:49.080801;10.619983
X-APPLE-STRUCTURED-LOCATION;VALUE=URI;X-ADDRESS=91743 Unterschwaningen\, Un
 terschwaningen\, Ansbach\, 91743\, Bayern\, Deutschland;X-APPLE-RADIUS=100
 ;X-TITLE=91743 Unterschwaningen:geo:49.080801,10.619983
END:VEVENT
BEGIN:VTIMEZONE
TZID:Europe/Berlin
X-LIC-LOCATION:Europe/Berlin
BEGIN:DAYLIGHT
DTSTART:20260329T030000
TZOFFSETFROM:+0100
TZOFFSETTO:+0200
TZNAME:CEST
END:DAYLIGHT
END:VTIMEZONE
END:VCALENDAR