BEGIN:VCALENDAR
VERSION:2.0
PRODID:-//wp-events-plugin.com//7.2.3.1//EN
TZID:Europe/Berlin
X-WR-TIMEZONE:Europe/Berlin
BEGIN:VEVENT
UID:140@flohmarktkalender.com
DTSTART;TZID=Europe/Berlin:20221003T070000
DTEND;TZID=Europe/Berlin:20221003T170000
DTSTAMP:20220930T070657Z
URL:https://www.flohmarktkalender.com/termin/antik-und-troedelmarkt-altsta
 dt-trostberg/
SUMMARY:Antik-und Trödelmarkt Altstadt Trostberg
DESCRIPTION:Antik-und Trödelmarkt Altstadt Trostberg 03.10.2022\n\nLiebe B
 esucherin\, lieber Besucher\, wir freuen uns sehr auf Ihr Interesse an den
  schönen alten Dingen und möchten Sie hiermit herzlich begrüßen! Bitte
  beachten Sie unsere nachfolgenden kleinen Hilfestellungen zum Parken\, f
 ür die Gastronomie und die WC`s.\n\nZu den Parkmöglichkeiten Antik- und 
 Trödelmarkt Trostberg 03.10.2022:\n\nDie Parkplätze P1-P4 sind in der Re
 gel bei Großveranstaltungen in der Altstadt komplett zugeparkt!  Idealer
 weise benutzen Sie bitte Parkplatz P8 Evangelische Kirche und P9 Festplatz
 /Sportzentrum\n\nMehr Info unter: https://www.ro-antik.com/
ATTACH;FMTTYPE=image/jpeg:https://www.flohmarktkalender.com/wp-content/upl
 oads/2022/09/Flyer-gimp-DIN-5-Trostberg-3.jpeg
CATEGORIES:Antikmarkt,Flohmarkt
LOCATION:83308 Trostberg\, 83308 Trostberg\, Trostberg\, Traunstein\, 83308
 \, Bayern\, Deutschland
GEO:48.026676;12.555027
X-APPLE-STRUCTURED-LOCATION;VALUE=URI;X-ADDRESS=83308 Trostberg\, Trostberg
 \, Traunstein\, 83308\, Bayern\, Deutschland;X-APPLE-RADIUS=100;X-TITLE=83
 308 Trostberg:geo:48.026676,12.555027
END:VEVENT
BEGIN:VTIMEZONE
TZID:Europe/Berlin
X-LIC-LOCATION:Europe/Berlin
BEGIN:DAYLIGHT
DTSTART:20220327T030000
TZOFFSETFROM:+0100
TZOFFSETTO:+0200
TZNAME:CEST
END:DAYLIGHT
END:VTIMEZONE
END:VCALENDAR