BEGIN:VCALENDAR
VERSION:2.0
PRODID:-//wp-events-plugin.com//7.2.3.1//EN
TZID:Europe/Berlin
X-WR-TIMEZONE:Europe/Berlin
BEGIN:VEVENT
UID:572@flohmarktkalender.com
DTSTART;TZID=Europe/Berlin:20240608T083000
DTEND;TZID=Europe/Berlin:20240609T160000
DTSTAMP:20240510T060231Z
URL:https://www.flohmarktkalender.com/termin/bartlmae-hof-flohmarkt/
SUMMARY:Bartlmä-Hof-Flohmarkt
DESCRIPTION:Bartlmä-Hof-Flohmarkt\nBartlmämühle\, 824 41 Ohlstadt/GAP\na
 m Sa 8. u So 9. Juni 2024 ab 8.3o Uhr\nkeine Standgebühr\n\nVeranstalter:
  Armin Krattenmacher\nweitere Info per Tel: 08841 / 7244\n0 176 / 314 189 
 40\noder per email: info@bartmaeschreiner.de
CATEGORIES:Flohmarkt,Haus- &amp; Wohnungsflohmarkt
LOCATION:82441 Ohlstadt\, 82441 Ohlstadt\, Ohlstadt\, Garmisch-Partenkirche
 n\, 82441\, Bayern\, Deutschland
GEO:47.634725;11.232738
X-APPLE-STRUCTURED-LOCATION;VALUE=URI;X-ADDRESS=82441 Ohlstadt\, Ohlstadt\,
  Garmisch-Partenkirchen\, 82441\, Bayern\, Deutschland;X-APPLE-RADIUS=100;
 X-TITLE=82441 Ohlstadt:geo:47.634725,11.232738
END:VEVENT
BEGIN:VTIMEZONE
TZID:Europe/Berlin
X-LIC-LOCATION:Europe/Berlin
BEGIN:DAYLIGHT
DTSTART:20240331T030000
TZOFFSETFROM:+0100
TZOFFSETTO:+0200
TZNAME:CEST
END:DAYLIGHT
END:VTIMEZONE
END:VCALENDAR