BEGIN:VCALENDAR
VERSION:2.0
PRODID:-//wp-events-plugin.com//7.2.3.1//EN
TZID:Europe/Berlin
X-WR-TIMEZONE:Europe/Berlin
BEGIN:VEVENT
UID:568@flohmarktkalender.com
DTSTART;TZID=Europe/Berlin:20240907T100000
DTEND;TZID=Europe/Berlin:20240907T150000
DTSTAMP:20240426T065325Z
URL:https://www.flohmarktkalender.com/termin/buecherflohmarkt-stadtbuecher
 ei-wuerzburg-2/
SUMMARY:Bücherflohmarkt - Stadtbücherei Würzburg
DESCRIPTION:Bücherflohmarkt - Stadtbücherei Würzburg\nZu Schnäppchenpre
 isen findet man hier Bücher aus den unterschiedlichsten Gebieten. Romane\
 , Sachbücher\, Reiseliteratur\, alles was das Leserherz begehrt. Aber auc
 h DVDs\, Spiele\, Hörbücher und Musiknoten.\n\nDer Flohmarkt findet jewe
 ils von 10:00 bis 15:00 Uhr im 2. Obergeschoss der Stadtbücherei statt\, 
 im Dauthendey-Saal. Barrierefrei mit dem Aufzug erreichbar.\n\nInfos: http
 s://www.facebook.com/stadtbuecherei.wuerzburg
ATTACH;FMTTYPE=image/jpeg:https://www.flohmarktkalender.com/wp-content/upl
 oads/2024/04/416099308_756015979741227_1858647189825849472_n.jpg
CATEGORIES:Bücherflohmarkt
LOCATION:97070 Würzburg\, 97070 Würzburg\, Würzburg\, Würzburg\, 97070\
 , Bayern\, Deutschland
GEO:49.79598;9.949152
X-APPLE-STRUCTURED-LOCATION;VALUE=URI;X-ADDRESS=97070 Würzburg\, Würzburg
 \, Würzburg\, 97070\, Bayern\, Deutschland;X-APPLE-RADIUS=100;X-TITLE=970
 70 Würzburg:geo:49.79598,9.949152
END:VEVENT
BEGIN:VTIMEZONE
TZID:Europe/Berlin
X-LIC-LOCATION:Europe/Berlin
BEGIN:DAYLIGHT
DTSTART:20240331T030000
TZOFFSETFROM:+0100
TZOFFSETTO:+0200
TZNAME:CEST
END:DAYLIGHT
END:VTIMEZONE
END:VCALENDAR