BEGIN:VCALENDAR
VERSION:2.0
PRODID:-//wp-events-plugin.com//7.2.3.1//EN
TZID:Europe/Berlin
X-WR-TIMEZONE:Europe/Berlin
BEGIN:VEVENT
UID:1572@flohmarktkalender.com
DTSTART;TZID=Europe/Berlin:20250615T050000
DTEND;TZID=Europe/Berlin:20250615T180000
DTSTAMP:20250605T064029Z
URL:https://www.flohmarktkalender.com/termin/dorffest-gauerstadt-mit-gross
 en-flohmarkt/
SUMMARY:Dorffest Gauerstadt mit großen Flohmarkt
DESCRIPTION:Dorffest Gauerstadt mit großen Flohmarkt\nGauerstadt – Das D
 orffest in Gauerstadt mit dem größten Flohmarkt des Coburger Landes find
 et am Sonntag\, dem 15. Juni statt.\n\nDem Anlass entsprechend\, so waren 
 sich alle Verantwortlichen des LTV Gauerstadt einig\, wird das seit Jahren
  bewährte Speisenangebot\, wie z. B. geräucherte Forellen\, hausgemachte
 r Kuchen und vieles andere\, um ein umfangreiches Unterhaltungsprogramm er
 weitert. Musikalisch werden die Autenhausner Musikanten ab 11.30 Uhr für 
 Stimmung sorgen. Für die Kinder werden die Hüpfburg\, das Kinderschminke
 n und vieles mehr besondere Anziehungspunkte sein. Das Highlight für die 
 meisten Besucher dürfte aber ein Bummel über den wohl größten Flohmark
 t des Coburger Landes sein. Dabei wird auch in diesem Jahr wieder für all
 e Generationen etwas zu finden sein. Käufer und Verkäufer werden ihre Fr
 eude haben.\n\nFlohmärktler\, die bereits am Samstag anreisen möchten\, 
 können dies gerne tun. Die Freiwillige Feuerwehr Gauerstadt begrüßt sie
  gerne beim Sonnwendfeuer\, das ebenfalls auf dem Sportgelände stattfinde
 t. Ansonsten wird allen Standbetreibern am Sonntag\, ab 05.00 Uhr\, ein St
 andplatz zugeteilt. Vorherige Absperrungen sind nicht erlaubt. Gleiches gi
 lt für gewerbliche Anbieter. Die Standgebühr beträgt einheitlich 5\,-- 
 Euro für den Stand.\n\nOrt: Gauerstadt\, Hilmar-Franz-Str. 2\, 96476 Bad
  Rodach\n\nInfos: www.ltv-gauerstadt.de
CATEGORIES:Flohmarkt
LOCATION:96476 Bad Rodach\, 96476 Bad Rodach\, Bad Rodach\, Coburg\, 96476\
 , Bayern\, Deutschland
GEO:50.337;10.77834
X-APPLE-STRUCTURED-LOCATION;VALUE=URI;X-ADDRESS=96476 Bad Rodach\, Bad Roda
 ch\, Coburg\, 96476\, Bayern\, Deutschland;X-APPLE-RADIUS=100;X-TITLE=9647
 6 Bad Rodach:geo:50.337,10.77834
END:VEVENT
BEGIN:VTIMEZONE
TZID:Europe/Berlin
X-LIC-LOCATION:Europe/Berlin
BEGIN:DAYLIGHT
DTSTART:20250330T030000
TZOFFSETFROM:+0100
TZOFFSETTO:+0200
TZNAME:CEST
END:DAYLIGHT
END:VTIMEZONE
END:VCALENDAR