BEGIN:VCALENDAR
VERSION:2.0
PRODID:-//wp-events-plugin.com//7.2.3.1//EN
TZID:Europe/Berlin
X-WR-TIMEZONE:Europe/Berlin
BEGIN:VEVENT
UID:979@flohmarktkalender.com
DTSTART;TZID=Europe/Berlin:20250518T103000
DTEND;TZID=Europe/Berlin:20250518T153000
DTSTAMP:20250513T101847Z
URL:https://www.flohmarktkalender.com/termin/egger-flohmarkt-hobbykuenstle
 rmarkt/
SUMMARY:Egger Flohmarkt & Hobbykünstlermarkt
DESCRIPTION:Egger Flohmarkt &amp\; Hobbykünstlermarkt\nAm 18.05.2025 von 1
 0:30-15:30 Uhr freuen wir uns auf den nächsten Egger Flohmarkt &amp\; Hob
 bykünstlermarkt.\n\n\nNeben lokalen Anbietern von Kunst und Trödel wird 
 für das leibliche Wohl gesorgt sein.\n\nMit einer Hüpfburg und dem Spiel
 platz im nahen Pfarrgarten ist auch für unsere kleinen Besucher viel gebo
 ten.\n\n\nUnser Markt findet ausschließlich bei gutem Wetter statt.\n\nDi
 e Einnahmen von Essen und Getränken kommen dem Kinderhaus Sonnenschein in
  Egg zugute.\n\nWir freuen uns auf euren Besuch\n\nOrt der Veranstaltung\n
 Dr.-Eck-Platz\n87743 Egg an der Günz
CATEGORIES:Flohmarkt,Kinderflohmarkt,Vereinsflohmarkt
LOCATION:87743 Egg an der Günz\, 87743 Egg an der Günz\, Egg an der Günz
 \, Unterallgäu\, 87743\, Bayern\, Deutschland
GEO:48.086597;10.283542
X-APPLE-STRUCTURED-LOCATION;VALUE=URI;X-ADDRESS=87743 Egg an der Günz\, Eg
 g an der Günz\, Unterallgäu\, 87743\, Bayern\, Deutschland;X-APPLE-RADIU
 S=100;X-TITLE=87743 Egg an der Günz:geo:48.086597,10.283542
END:VEVENT
BEGIN:VTIMEZONE
TZID:Europe/Berlin
X-LIC-LOCATION:Europe/Berlin
BEGIN:DAYLIGHT
DTSTART:20250330T030000
TZOFFSETFROM:+0100
TZOFFSETTO:+0200
TZNAME:CEST
END:DAYLIGHT
END:VTIMEZONE
END:VCALENDAR