BEGIN:VCALENDAR
VERSION:2.0
PRODID:-//wp-events-plugin.com//7.2.3.1//EN
TZID:Europe/Berlin
X-WR-TIMEZONE:Europe/Berlin
BEGIN:VEVENT
UID:1576@flohmarktkalender.com
DTSTART;TZID=Europe/Berlin:20250914T063000
DTEND;TZID=Europe/Berlin:20250914T170000
DTSTAMP:20250611T141310Z
URL:https://www.flohmarktkalender.com/termin/floh-und-troedelmarkt-in-mass
 bach/
SUMMARY:Floh- und Trödelmarkt in Massbach
DESCRIPTION:Floh- und Trödelmarkt in Massbach\n14.09.2025\n\nDer Musikvere
 in Maßbach richtet auch in diesem Jahr den traditionellen Flohmarkt anlä
 sslich der Kirchweih in Maßbach am Sonntag\, den 14.09.2025\, aus. Der Fl
 ohmarkt wird schon seit mehr als 30 Jahren jährlich veranstaltet.\n\nAm F
 estplatz in Maßbach ist genügend Platz\, eine Voranmeldung/Reservierung 
 ist deshalb nicht nötig.\n\nFahrzeuge können am Stand kostenfrei abgeste
 llt werden. Aufbau ab 06.30 Uhr. Verkaufen kann jedermann\, Imbiss-\, Sü
 ßigkeiten-\, Eis-\, Essen- oder Getränkestände sind nicht erwünscht.\n
 Für den lfd. Meter Verkaufsfläche nehmen wir 6 €.\n\nPKW am Stand frei
 . Der Erlös ist für die Jugendarbeit im Verein gedacht. Für Speisen und
  Getränke ist bestens gesorgt\, es gibt auch Kaffee und Kuchen.\n\nDer Fl
 ohmarkt ist weit über die Landkreisgrenzen hinaus bekannt\, mehr als 4000
  Besucher kommen alljährlich\, um die Angebote zu durchstöbern.\n\nAuf I
 hr Kommen freut sich der Musikverein Maßbach e.V.\n\nOrt: Festplatz\, Neu
 e Strasse 30\, 97711 Massbach\n\nAlle Infos unter: https://www.musikverein
 -massbach.de\n\nKontakt: info@musikverein-massbach.de
ATTACH;FMTTYPE=image/jpeg:https://www.flohmarktkalender.com/wp-content/upl
 oads/2025/06/flohmarkt_icon2.jpg
CATEGORIES:Flohmarkt
LOCATION:97711 Maßbach\, 97711 Maßbach\, Maßbach\, Bad Kissingen\, 97711
 \, Bayern\, Deutschland
GEO:50.183312;10.276084
X-APPLE-STRUCTURED-LOCATION;VALUE=URI;X-ADDRESS=97711 Maßbach\, Maßbach\,
  Bad Kissingen\, 97711\, Bayern\, Deutschland;X-APPLE-RADIUS=100;X-TITLE=9
 7711 Maßbach:geo:50.183312,10.276084
END:VEVENT
BEGIN:VTIMEZONE
TZID:Europe/Berlin
X-LIC-LOCATION:Europe/Berlin
BEGIN:DAYLIGHT
DTSTART:20250330T030000
TZOFFSETFROM:+0100
TZOFFSETTO:+0200
TZNAME:CEST
END:DAYLIGHT
END:VTIMEZONE
END:VCALENDAR