BEGIN:VCALENDAR
VERSION:2.0
PRODID:-//wp-events-plugin.com//7.2.3.1//EN
TZID:Europe/Berlin
X-WR-TIMEZONE:Europe/Berlin
BEGIN:VEVENT
UID:280@flohmarktkalender.com
DTSTART;TZID=Europe/Berlin:20231216T070000
DTEND;TZID=Europe/Berlin:20231216T150000
DTSTAMP:20231115T101512Z
URL:https://www.flohmarktkalender.com/termin/flohdom-bahrenfelder-trabrenn
 bahn-hamburg-2023-12-16/
SUMMARY:FLOHDOM BAHRENFELDER TRABRENNBAHN – HAMBURG
DESCRIPTION:FLOHDOM BAHRENFELDER\nTRABRENNBAHN – HAMBURG\n\n\nAdresse: Lu
 ruper Chaussee 30 22761 Hamburg\n\n\n\n\n\n(Freifläche an der Trab-Arena\
 , Sportpark Hamburg)\n\n\n\n\nMarktzeit\n\n\n\n\n\nSamstags von 07:00 – 
 15:00 Uhr\n\nMittwochs von 9:00 – 15:00 Uhr\n\nInfos unter: https://krea
 ktiva.de/#bahrenfelder\n\n\n\n
CATEGORIES:Flohmarkt
LOCATION:22761 Hamburg\, 22761 Hamburg\, Hamburg\, Hamburg\, 22761\, Hambur
 g\, Deutschland
GEO:53.567853;9.911873
X-APPLE-STRUCTURED-LOCATION;VALUE=URI;X-ADDRESS=22761 Hamburg\, Hamburg\, H
 amburg\, 22761\, Hamburg\, Deutschland;X-APPLE-RADIUS=100;X-TITLE=22761 Ha
 mburg:geo:53.567853,9.911873
END:VEVENT
BEGIN:VTIMEZONE
TZID:Europe/Berlin
X-LIC-LOCATION:Europe/Berlin
BEGIN:STANDARD
DTSTART:20231029T020000
TZOFFSETFROM:+0200
TZOFFSETTO:+0100
TZNAME:CET
END:STANDARD
END:VTIMEZONE
END:VCALENDAR