BEGIN:VCALENDAR
VERSION:2.0
PRODID:-//wp-events-plugin.com//7.2.3.1//EN
TZID:Europe/Berlin
X-WR-TIMEZONE:Europe/Berlin
BEGIN:VEVENT
UID:18@flohmarktkalender.com
DTSTART;TZID=Europe/Berlin:20220814T040000
DTEND;TZID=Europe/Berlin:20220814T140000
DTSTAMP:20220503T074454Z
URL:https://www.flohmarktkalender.com/termin/flohmarkt-buergerweide-2022-0
 8-14/
SUMMARY:Flohmarkt - Bürgerweide
DESCRIPTION:Jeden Sonntag ab 4.00 Uhr sind unsere Flohmärkte geöffnet und
  enden um 14:00 Uhr.\nHändler haben das Gelände bis spätestens 15.00 Uh
 r wieder zu verlassen.\nWenn Sie als Händler verkaufen möchten\, müssen
  Sie bis spätestens 8:00 Uhr einen Standplatz eingenommen haben.\n\nhttps
 ://www.breminale.de/flohmarkt/Flohmarkt-Termine/_16\n\nParkplatz Bürgerwe
 ide (BREPARK)\, Theodor-Heuss-Allee 15\, 28215 Bremen\, Deutschland
CATEGORIES:Flohmarkt
LOCATION:28215 Bremen\, 28215 Bremen\, Bremen\, Bremen\, 28215\, Bremen\, D
 eutschland
GEO:53.098182;8.812545
X-APPLE-STRUCTURED-LOCATION;VALUE=URI;X-ADDRESS=28215 Bremen\, Bremen\, Bre
 men\, 28215\, Bremen\, Deutschland;X-APPLE-RADIUS=100;X-TITLE=28215 Bremen
 :geo:53.098182,8.812545
END:VEVENT
BEGIN:VTIMEZONE
TZID:Europe/Berlin
X-LIC-LOCATION:Europe/Berlin
BEGIN:DAYLIGHT
DTSTART:20220327T030000
TZOFFSETFROM:+0100
TZOFFSETTO:+0200
TZNAME:CEST
END:DAYLIGHT
END:VTIMEZONE
END:VCALENDAR