BEGIN:VCALENDAR
VERSION:2.0
PRODID:-//wp-events-plugin.com//7.2.3.1//EN
TZID:Europe/Berlin
X-WR-TIMEZONE:Europe/Berlin
BEGIN:VEVENT
UID:1712@flohmarktkalender.com
DTSTART;TZID=Europe/Berlin:20251122T130000
DTEND;TZID=Europe/Berlin:20251122T170000
DTSTAMP:20251120T095313Z
URL:https://www.flohmarktkalender.com/termin/flohmarkt-in-der-kulturschule
 -goessmannsreuth/
SUMMARY:Flohmarkt in der Kulturschule Gößmannsreuth
DESCRIPTION:Flohmarkt in der Kulturschule Gößmannsreuth\nAm 22.11. verans
 taltet Cantine Ruin e.V. in der Kulturschule Gößmannsreuth zum dritten m
 al einen Flohmarkt. Dieser findet Indoor von 13-17 Uhr statt\, sodass bei 
 schlechtem Wetter auch alle trocken bleiben und nach Lust und Laune bei Mu
 sik stöbern können.\nKaffee und Kuchen\, Suppe und warme Getränke könn
 en u.a. an der Feuertonne genossen werden.\nDer Erlös geht dem erhalt der
  Kulturschule zugute.\n\nOrt: Kulturschule Gößmannsreuth\, Gößmannsreu
 th 8\, 95326 Kulmbach\n\nInfo: https://www.facebook.com/goessev
ATTACH;FMTTYPE=image/jpeg:https://www.flohmarktkalender.com/wp-content/upl
 oads/2025/11/583461758_1345742897349532_8049990393622364852_n.jpg
CATEGORIES:Flohmarkt
LOCATION:95326 Kulmbach\, 95326 Kulmbach\, Kulmbach\, Kulmbach\, 95326\, Ba
 yern\, Deutschland
GEO:50.125978;11.431136
X-APPLE-STRUCTURED-LOCATION;VALUE=URI;X-ADDRESS=95326 Kulmbach\, Kulmbach\,
  Kulmbach\, 95326\, Bayern\, Deutschland;X-APPLE-RADIUS=100;X-TITLE=95326 
 Kulmbach:geo:50.125978,11.431136
END:VEVENT
BEGIN:VTIMEZONE
TZID:Europe/Berlin
X-LIC-LOCATION:Europe/Berlin
BEGIN:STANDARD
DTSTART:20251026T020000
TZOFFSETFROM:+0200
TZOFFSETTO:+0100
TZNAME:CET
END:STANDARD
END:VTIMEZONE
END:VCALENDAR