BEGIN:VCALENDAR
VERSION:2.0
PRODID:-//wp-events-plugin.com//7.2.3.1//EN
TZID:Europe/Berlin
X-WR-TIMEZONE:Europe/Berlin
BEGIN:VEVENT
UID:875@flohmarktkalender.com
DTSTART;TZID=Europe/Berlin:20250706T080000
DTEND;TZID=Europe/Berlin:20250706T160000
DTSTAMP:20250404T145637Z
URL:https://www.flohmarktkalender.com/termin/flohmarkt-obi-norderstedt-202
 5-07-06/
SUMMARY:Flohmarkt - OBI Norderstedt
DESCRIPTION:Flohmarkt OBI Norderstedt\nDer Flohmarkt geht von 8.00 - 16.00 
 Uhr\n\nDer Aufbau beginnt Sonntag ab 5.30 Uhr! Ihr könnt auch gerne ohne 
 Anmeldung vorbeikommen!\n\nInfo: https://www.mumverlag.de/\n\noder https:/
 /www.facebook.com/menschenundmaerkte\n\n&nbsp\;\n\nOrt: Parkplatz OBI Nord
 erstedt\nNiendorfer Straße 85\n22848 Norderstedt
ATTACH;FMTTYPE=image/jpeg:https://www.flohmarktkalender.com/wp-content/upl
 oads/2025/04/487794942_18394044907128069_8891920218797303350_n.jpg
CATEGORIES:Flohmarkt
LOCATION:22848 Norderstedt\, 22848 Norderstedt\, Norderstedt\, Segeberg\, 2
 2848\, Schleswig-Holstein\, Deutschland
GEO:53.668193;9.973898
X-APPLE-STRUCTURED-LOCATION;VALUE=URI;X-ADDRESS=22848 Norderstedt\, Norders
 tedt\, Segeberg\, 22848\, Schleswig-Holstein\, Deutschland;X-APPLE-RADIUS=
 100;X-TITLE=22848 Norderstedt:geo:53.668193,9.973898
END:VEVENT
BEGIN:VTIMEZONE
TZID:Europe/Berlin
X-LIC-LOCATION:Europe/Berlin
BEGIN:DAYLIGHT
DTSTART:20250330T030000
TZOFFSETFROM:+0100
TZOFFSETTO:+0200
TZNAME:CEST
END:DAYLIGHT
END:VTIMEZONE
END:VCALENDAR