BEGIN:VCALENDAR
VERSION:2.0
PRODID:-//wp-events-plugin.com//7.2.3.1//EN
TZID:Europe/Berlin
X-WR-TIMEZONE:Europe/Berlin
BEGIN:VEVENT
UID:1586@flohmarktkalender.com
DTSTART;TZID=Europe/Berlin:20250914T120000
DTEND;TZID=Europe/Berlin:20250914T170000
DTSTAMP:20250710T125517Z
URL:https://www.flohmarktkalender.com/termin/flohmarkt-sv-ketschendorf/
SUMMARY:Flohmarkt SV Ketschendorf
DESCRIPTION:Flohmarkt SV Ketschendorf\nMitmachen beim SVK Flohmarkt! – Je
 tzt Standplatz sichern\n\nDu hast zu viele Sachen zu Hause?\nKleidung\, B
 ücher\, Deko\, Spielzeug oder Krimskrams\, den du nicht mehr brauchst?\nD
 ann mach mit beim Flohmarkt des SV Ketschendorf am Sonntag\, den 14. Septe
 mber 2025 auf dem Sportplatz des SVKs.\n\nOrt: SV Coburg-Ketschendorf\, Bu
 chbergstraße\, 96450 Coburg\n\nOb Profi oder zum ersten Mal dabei – jed
 er ist willkommen.\n\nOption 1: 15€ pro Stellplatz (nur Stellplatz)\nOpt
 ion 2: 20€ pro Stellplatz (inkl. zur Verfügung gestellter Biertisch)\n\
 nJetzt einfach über WhatsApp anmelden: Patrick Schuberth 0152/56748055\n\
 nRäume aus\, verkaufe mit und werde Teil eines tollen Tages voller Tröde
 l\, Tratsch und guter Stimmung!\n\nInfos: https://www.svketschendorf.de/
CATEGORIES:Flohmarkt,Vereinsflohmarkt
LOCATION:96450 Coburg\, 96450 Coburg\, Coburg\, Coburg\, 96450\, Bayern\, D
 eutschland
GEO:50.262087;10.963064
X-APPLE-STRUCTURED-LOCATION;VALUE=URI;X-ADDRESS=96450 Coburg\, Coburg\, Cob
 urg\, 96450\, Bayern\, Deutschland;X-APPLE-RADIUS=100;X-TITLE=96450 Coburg
 :geo:50.262087,10.963064
END:VEVENT
BEGIN:VTIMEZONE
TZID:Europe/Berlin
X-LIC-LOCATION:Europe/Berlin
BEGIN:DAYLIGHT
DTSTART:20250330T030000
TZOFFSETFROM:+0100
TZOFFSETTO:+0200
TZNAME:CEST
END:DAYLIGHT
END:VTIMEZONE
END:VCALENDAR