BEGIN:VCALENDAR
VERSION:2.0
PRODID:-//wp-events-plugin.com//7.2.3.1//EN
TZID:Europe/Berlin
X-WR-TIMEZONE:Europe/Berlin
BEGIN:VEVENT
UID:1573@flohmarktkalender.com
DTSTART;TZID=Europe/Berlin:20250914T063000
DTEND;TZID=Europe/Berlin:20250914T170000
DTSTAMP:20250606T164317Z
URL:https://www.flohmarktkalender.com/termin/flohmarkt-und-troedelmarkt-in
 -massbach/
SUMMARY:Flohmarkt und Trödelmarkt in Massbach
DESCRIPTION:Flohmarkt und Trödelmarkt in Massbach\nDer Musikverein Maßbac
 h richtet auch in diesem Jahr den traditionellen Flohmarkt anlässlich der
  Kirchweih in Maßbach am Sonntag\, den 14.09.2025\, aus. Der Flohmarkt wi
 rd schon seit mehr als 30 Jahren jährlich veranstaltet.\n\nAm Festplatz i
 n Maßbach ist genügend Platz\, eine Voranmeldung/Reservierung ist deshal
 b nicht nötig.\n\nFahrzeuge können am Stand kostenfrei abgestellt werden
 . Aufbau ab 06.30 Uhr. Verkaufen kann jedermann\, Imbiss-\, Süßigkeiten-
 \, Eis-\, Essen- oder Getränkestände sind nicht erwünscht.\n\nFür den 
 lfd. Meter Verkaufsfläche nehmen wir 6 €.\n\nPKW am Stand frei. Der Erl
 ös ist für die Jugendarbeit im Verein gedacht.\n\nOrt: Festplatz\, Neue
  Strasse 30\, 97711 Massbach\n\nInfos: https://www.musikverein-massbach.d
 e
CATEGORIES:Flohmarkt
LOCATION:97711 Maßbach\, 97711 Maßbach\, Maßbach\, Bad Kissingen\, 97711
 \, Bayern\, Deutschland
GEO:50.183312;10.276084
X-APPLE-STRUCTURED-LOCATION;VALUE=URI;X-ADDRESS=97711 Maßbach\, Maßbach\,
  Bad Kissingen\, 97711\, Bayern\, Deutschland;X-APPLE-RADIUS=100;X-TITLE=9
 7711 Maßbach:geo:50.183312,10.276084
END:VEVENT
BEGIN:VTIMEZONE
TZID:Europe/Berlin
X-LIC-LOCATION:Europe/Berlin
BEGIN:DAYLIGHT
DTSTART:20250330T030000
TZOFFSETFROM:+0100
TZOFFSETTO:+0200
TZNAME:CEST
END:DAYLIGHT
END:VTIMEZONE
END:VCALENDAR