BEGIN:VCALENDAR
VERSION:2.0
PRODID:-//wp-events-plugin.com//7.2.3.1//EN
TZID:Europe/Berlin
X-WR-TIMEZONE:Europe/Berlin
BEGIN:VEVENT
UID:995@flohmarktkalender.com
DTSTART;TZID=Europe/Berlin:20250615T080000
DTEND;TZID=Europe/Berlin:20250615T150000
DTSTAMP:20250530T080647Z
URL:https://www.flohmarktkalender.com/termin/flohmaxx-bremerhaven-ikea/
SUMMARY:Flohmaxx – BREMERHAVEN | Ikea
DESCRIPTION:Flohmaxx – BREMERHAVEN | Ikea\n15.06.2025\n08 bis 15 Uhr\n&
 nbsp\;\nAdresse:Weserstr. 1i\, 27572 Bremerhaven\nInfos: https://flohmaxx
 .de/\n\nFacebook: https://www.facebook.com/Flohmaxx.de/
CATEGORIES:Flohmarkt
LOCATION:27572 Bremerhaven\, 27572 Bremerhaven\, Bremerhaven\, Bremerhaven\
 , 27572\, Bremen\, Deutschland
GEO:53.505518;8.598558
X-APPLE-STRUCTURED-LOCATION;VALUE=URI;X-ADDRESS=27572 Bremerhaven\, Bremerh
 aven\, Bremerhaven\, 27572\, Bremen\, Deutschland;X-APPLE-RADIUS=100;X-TIT
 LE=27572 Bremerhaven:geo:53.505518,8.598558
END:VEVENT
BEGIN:VTIMEZONE
TZID:Europe/Berlin
X-LIC-LOCATION:Europe/Berlin
BEGIN:DAYLIGHT
DTSTART:20250330T030000
TZOFFSETFROM:+0100
TZOFFSETTO:+0200
TZNAME:CEST
END:DAYLIGHT
END:VTIMEZONE
END:VCALENDAR