BEGIN:VCALENDAR
VERSION:2.0
PRODID:-//wp-events-plugin.com//7.2.3.1//EN
TZID:Europe/Berlin
X-WR-TIMEZONE:Europe/Berlin
BEGIN:VEVENT
UID:1680@flohmarktkalender.com
DTSTART;TZID=Europe/Berlin:20250817T080000
DTEND;TZID=Europe/Berlin:20250817T120000
DTSTAMP:20250817T022740Z
URL:https://www.flohmarktkalender.com/termin/grosser-steinersdorfer-dorffl
 ohmarkt/
SUMMARY:Großer Steinersdorfer Dorfflohmarkt
DESCRIPTION:Großer Steinersdorfer Dorfflohmarkt 5\,-€ pro Stand\nam Sonn
 tag 17.08.2025 findet wieder unser großer Steinersdorfer Dorfflohmarkt au
 f dem Dorfanger in Steinersdorf statt.\n\nDie Stand Gebühren sind mit 5\,
 -€ pro Stand\, nicht pro Meter\, sehr günstig. Es gibt große\, Schatte
 n spendende Bäume\, für Essen und Trinken (selbstgemachte Kuchen und Tor
 ten\, es wird gegrillt) ist bestens gesorgt.\n\nWie jedes Jahr soll es ein
  chilliger\, schöner Familien Flohmarkt werden\, ohne Stress und Hektik.\
 n\nWir freuen uns auf alle Stamm Anbieter\, neue Stand Betreiber und viele
 \, viele Besucher. Es gibt immer außergewöhnliche Stücke zu entdecken u
 nd zu kaufen.\n\nMit freundlichen Grüßen\nAWISSUS International\nHerbert
  Awissus\n\nAnmeldung: info@awissus-international.de\n\nwww.awissus-intern
 ational.de
ATTACH;FMTTYPE=image/jpeg:https://www.flohmarktkalender.com/wp-content/upl
 oads/2025/08/528797512_2488439588201061_3486000098469827516_n.jpg
CATEGORIES:Flohmarkt
LOCATION:91611 Lehrberg\, 91611 Lehrberg\, Lehrberg\, Ansbach\, 91611\, Bay
 ern\, Deutschland
GEO:49.346052;10.509812
X-APPLE-STRUCTURED-LOCATION;VALUE=URI;X-ADDRESS=91611 Lehrberg\, Lehrberg\,
  Ansbach\, 91611\, Bayern\, Deutschland;X-APPLE-RADIUS=100;X-TITLE=91611 L
 ehrberg:geo:49.346052,10.509812
END:VEVENT
BEGIN:VTIMEZONE
TZID:Europe/Berlin
X-LIC-LOCATION:Europe/Berlin
BEGIN:DAYLIGHT
DTSTART:20250330T030000
TZOFFSETFROM:+0100
TZOFFSETTO:+0200
TZNAME:CEST
END:DAYLIGHT
END:VTIMEZONE
END:VCALENDAR