BEGIN:VCALENDAR
VERSION:2.0
PRODID:-//wp-events-plugin.com//7.2.3.1//EN
TZID:Europe/Berlin
X-WR-TIMEZONE:Europe/Berlin
BEGIN:VEVENT
UID:329@flohmarktkalender.com
DTSTART;TZID=Europe/Berlin:20251003T100000
DTEND;TZID=Europe/Berlin:20251005T170000
DTSTAMP:20251002T080029Z
URL:https://www.flohmarktkalender.com/termin/herbst-special-antik-markt-br
 ocante-und-vintage-markt-am-feiertags-wochenende-in-schloss-dennenlohe/
SUMMARY:HERBST-SPECIAL: ANTIK-MARKT/BROCANTE und VINTAGE-MARKT am FEIERTAGS
 -WOCHENENDE in Schloss Dennenlohe
DESCRIPTION:Das Flohmarkt-HERBST-SPECIAL in Dennenlohe!\nRETRO\, VINTAGE\, 
 MID CENTURY und ANTIQUITÄTEN: ANTIKMARKT &amp\; BROCANTE in Schloss Denne
 nlohe\nFreitag\, 03.10.2025 10:00 – 17:00 Uhr\, Samstag 04.10.2025 10:00
  – 17:00 Uhr\, Sonntag 05.10.2025 10:00 – 17:00 Uhr\n\nWir freuen uns 
 auf Ihr Kommen! Bei uns gibt es Möbel\, Lampen\, Sammelsurien\, Kuriosit
 äten\, Geschirr\, Tische\, Stühle\, Spiegel und Vintage-Kleidung - zusam
 mengetragen in England\, Frankreich\, Österreich und natürlich vom Dachb
 oden des Schlosses "Dennenlohe".\n\nEine außergewöhnliche Auswahl an bes
 onderen Stücken erwartet Sie - vom Chinesischen Hochzeitsschrank aus dem 
 19. Jahrhundert bis "Sammeltassen".\n\nAll das im wunderschönen Ambiente 
 des Gutshofes Dennenlohe - 600 Quadratmeter voll mit ungewöhnlichen Dinge
 n\, die für jede Wohnung\, für jedes Haus\, für jeden Sammler etwas bie
 ten.\n\nWir freuen uns auf Sie und Euch und öffnen mit neuen Raritäten w
 ieder einmal unsere Pforten!\n\nOrt: Schloss Dennenlohe Gutshof\, Dennenlo
 he 1\, 91743 Unterschwaningen
CATEGORIES:Antikmarkt,Flohmarkt
LOCATION:91743 Unterschwaningen\, 91743 Unterschwaningen\, Unterschwaningen
 \, Ansbach\, 91743\, Bayern\, Deutschland
GEO:49.080801;10.619983
X-APPLE-STRUCTURED-LOCATION;VALUE=URI;X-ADDRESS=91743 Unterschwaningen\, Un
 terschwaningen\, Ansbach\, 91743\, Bayern\, Deutschland;X-APPLE-RADIUS=100
 ;X-TITLE=91743 Unterschwaningen:geo:49.080801,10.619983
END:VEVENT
BEGIN:VTIMEZONE
TZID:Europe/Berlin
X-LIC-LOCATION:Europe/Berlin
BEGIN:DAYLIGHT
DTSTART:20250330T030000
TZOFFSETFROM:+0100
TZOFFSETTO:+0200
TZNAME:CEST
END:DAYLIGHT
END:VTIMEZONE
END:VCALENDAR