BEGIN:VCALENDAR
VERSION:2.0
PRODID:-//wp-events-plugin.com//7.2.3.1//EN
TZID:Europe/Berlin
X-WR-TIMEZONE:Europe/Berlin
BEGIN:VEVENT
UID:994@flohmarktkalender.com
DTSTART;TZID=Europe/Berlin:20250914T110000
DTEND;TZID=Europe/Berlin:20250914T150000
DTSTAMP:20250530T074659Z
URL:https://www.flohmarktkalender.com/termin/noellino-baby-kinderflohmarkt
 -2/
SUMMARY:Noellino Baby- & Kinderflohmarkt
DESCRIPTION:Noellino Baby- &amp\; Kinderflohmarkt\n\n\n&nbsp\;\n\n Roland 
 Center BremenAlter Dorfweg 30/50 in 28259 Bremen Sonntag\, 14.09.25 11:0
 0 – 15:00 Uhr Einlass für Schwangere mit Begleitpersonab 10:30 Uhr\n\n
 Infos: https://www.facebook.com/profile.php?id=61576619223525\n\n&nbsp\;\n
 \n&nbsp\;
ATTACH;FMTTYPE=image/jpeg:https://www.flohmarktkalender.com/wp-content/upl
 oads/2025/05/noellino.jpg
CATEGORIES:Flohmarkt,Kinderflohmarkt
LOCATION:28259 Bremen\, 28259 Bremen\, Bremen\, Bremen\, 28259\, Bremen\, D
 eutschland
GEO:53.052894;8.741065
X-APPLE-STRUCTURED-LOCATION;VALUE=URI;X-ADDRESS=28259 Bremen\, Bremen\, Bre
 men\, 28259\, Bremen\, Deutschland;X-APPLE-RADIUS=100;X-TITLE=28259 Bremen
 :geo:53.052894,8.741065
END:VEVENT
BEGIN:VTIMEZONE
TZID:Europe/Berlin
X-LIC-LOCATION:Europe/Berlin
BEGIN:DAYLIGHT
DTSTART:20250330T030000
TZOFFSETFROM:+0100
TZOFFSETTO:+0200
TZNAME:CEST
END:DAYLIGHT
END:VTIMEZONE
END:VCALENDAR