BEGIN:VCALENDAR
VERSION:2.0
PRODID:-//wp-events-plugin.com//7.2.3.1//EN
TZID:Europe/Berlin
X-WR-TIMEZONE:Europe/Berlin
BEGIN:VEVENT
UID:1767@flohmarktkalender.com
DTSTART;TZID=Europe/Berlin:20260501T100000
DTEND;TZID=Europe/Berlin:20260503T173000
DTSTAMP:20260421T081005Z
URL:https://www.flohmarktkalender.com/termin/pflanzenmarkt-in-schloss-denn
 enlohe/
SUMMARY:Pflanzenmarkt in Schloss Dennenlohe
DESCRIPTION:&nbsp\;\n\nERSTMALS PFLANZENVERKAUF\, darunter Raritäten von K
 räutern und Gemüsen\, beim französischen ANTIKMARKT im Gutshof von SCHL
 OSS DENNENLOHE\nWir freuen uns auf Sie und öffnen wieder einmal unsere Pf
 orten!\n01. bis 03. Mai 2026 - 10 bis 17.30 Uhr\n\nweitere Termine in 2026
 :\n09. bis 10. Mai 2026 - 10 bis 17.30 Uhr\n\n14. bis 17. Mai 2026 - 10 bi
 s 17.30 Uhr\n\n04. bis 07. Juni 2026 - 10 bis 17. 30 Uhr
CATEGORIES:Flohmarkt,Pflanzenflohmarkt
LOCATION:91743 Unterschwaningen\, 91743 Unterschwaningen\, Unterschwaningen
 \, Ansbach\, 91743\, Bayern\, Deutschland
GEO:49.080801;10.619983
X-APPLE-STRUCTURED-LOCATION;VALUE=URI;X-ADDRESS=91743 Unterschwaningen\, Un
 terschwaningen\, Ansbach\, 91743\, Bayern\, Deutschland;X-APPLE-RADIUS=100
 ;X-TITLE=91743 Unterschwaningen:geo:49.080801,10.619983
END:VEVENT
BEGIN:VTIMEZONE
TZID:Europe/Berlin
X-LIC-LOCATION:Europe/Berlin
BEGIN:DAYLIGHT
DTSTART:20260329T030000
TZOFFSETFROM:+0100
TZOFFSETTO:+0200
TZNAME:CEST
END:DAYLIGHT
END:VTIMEZONE
END:VCALENDAR