BEGIN:VCALENDAR
VERSION:2.0
PRODID:-//wp-events-plugin.com//7.2.3.1//EN
TZID:Europe/Berlin
X-WR-TIMEZONE:Europe/Berlin
BEGIN:VEVENT
UID:1677@flohmarktkalender.com
DTSTART;TZID=Europe/Berlin:20250809T090000
DTEND;TZID=Europe/Berlin:20250809T180000
DTSTAMP:20250807T114812Z
URL:https://www.flohmarktkalender.com/termin/privater-hofflohmarkt/
SUMMARY:Privater Hofflohmarkt
DESCRIPTION:Privater Hofflohmarkt\nMöbel\, Hausrat\, Kleidung\, Spielsache
 n\, CD s\, Bücher\, Bastelsachen\, sonstige „Schätze“\n\nViel Freude
  beim Stöbern! Wir freuen uns auf Dich!\n\nOrt: Privater Parkplatz\, Sonn
 enwaldstr 16\, 94104 Tittling\n\nDreiburgenstr. unterhalb des Aldi und Alt
 enheims\nreinfahren auf Sonnenwaldstr\nrechts halten\nan der ev.Kirche vor
 bei\nrechts halten\n1. Haus rechts
CATEGORIES:Flohmarkt,Garagen-Flohmarkt,Haus- &amp; Wohnungsflohmarkt
LOCATION:94104 Tittling\, 94104 Tittling\, Tittling\, Passau\, 94104\, Baye
 rn\, Deutschland
GEO:48.726011;13.380174
X-APPLE-STRUCTURED-LOCATION;VALUE=URI;X-ADDRESS=94104 Tittling\, Tittling\,
  Passau\, 94104\, Bayern\, Deutschland;X-APPLE-RADIUS=100;X-TITLE=94104 Ti
 ttling:geo:48.726011,13.380174
END:VEVENT
BEGIN:VTIMEZONE
TZID:Europe/Berlin
X-LIC-LOCATION:Europe/Berlin
BEGIN:DAYLIGHT
DTSTART:20250330T030000
TZOFFSETFROM:+0100
TZOFFSETTO:+0200
TZNAME:CEST
END:DAYLIGHT
END:VTIMEZONE
END:VCALENDAR