BEGIN:VCALENDAR
VERSION:2.0
PRODID:-//wp-events-plugin.com//7.2.3.1//EN
TZID:Europe/Berlin
X-WR-TIMEZONE:Europe/Berlin
BEGIN:VEVENT
UID:905@flohmarktkalender.com
DTSTART;TZID=Europe/Berlin:20250501T110000
DTEND;TZID=Europe/Berlin:20250501T160000
DTSTAMP:20250411T191838Z
URL:https://www.flohmarktkalender.com/termin/reicherbacher-grafflmarkt-2/
SUMMARY:Reicherbacher Grafflmarkt
DESCRIPTION:Reicherbacher Grafflmarkt\nEin Paradies für Schnäppchenjäger
 ………….\n………..ist unser „Reicherbacher Grafflmarkt“ mit ei
 nem großen Angebot an Kunst\, Kitsch und Kuriositäten aus Keller\, Küch
 e und Dachboden der Oberreichenbacher.\nAm Donnerstag\, den 1.Mai 2025 von
  11.00 bis 16.00 Uhr findet unser Grafflmarkt in der Ortsmitte bereits zum
  18 . Mal statt.\nSchaun‘ Sie mal vorbei – es wird Ihnen bei uns gefal
 len\, denn unser Grafflmarkt hat Charme und an den zahlreichen Ständen w
 erden Sie garantiert ein Schnäppchen für sich finden.\n\nOrganisiert wir
 d die Veranstaltung von der FWG Oberreichenbach\, Hauptstraße 3\, 91097 
 Oberreichenbach\nInfos: Waltraud Frohring\, Telefon 09104 1064 \, GWFrohr
 ing@gmx.de\n\nVeranstaltungsort: Ortsmitte\, Meisenweg \, 91097 Oberreich
 enbach\n\nWeb: https://www.fwg-oberreichenbach.de/
CATEGORIES:Flohmarkt
LOCATION:91097 Oberreichenbach\, 91097 Oberreichenbach\, Oberreichenbach\, 
 Erlangen-Höchstadt\, 91097\, Bayern\, Deutschland
GEO:49.588485;10.768738
X-APPLE-STRUCTURED-LOCATION;VALUE=URI;X-ADDRESS=91097 Oberreichenbach\, Obe
 rreichenbach\, Erlangen-Höchstadt\, 91097\, Bayern\, Deutschland;X-APPLE-
 RADIUS=100;X-TITLE=91097 Oberreichenbach:geo:49.588485,10.768738
END:VEVENT
BEGIN:VTIMEZONE
TZID:Europe/Berlin
X-LIC-LOCATION:Europe/Berlin
BEGIN:DAYLIGHT
DTSTART:20250330T030000
TZOFFSETFROM:+0100
TZOFFSETTO:+0200
TZNAME:CEST
END:DAYLIGHT
END:VTIMEZONE
END:VCALENDAR