BEGIN:VCALENDAR
VERSION:2.0
PRODID:-//wp-events-plugin.com//7.2.3.1//EN
TZID:Europe/Berlin
X-WR-TIMEZONE:Europe/Berlin
BEGIN:VEVENT
UID:327@flohmarktkalender.com
DTSTART;TZID=Europe/Berlin:20230501T110000
DTEND;TZID=Europe/Berlin:20230501T160000
DTSTAMP:20230423T081850Z
URL:https://www.flohmarktkalender.com/termin/reicherbacher-grafflmarkt/
SUMMARY:Reicherbacher Grafflmarkt
DESCRIPTION:Reicherbacher Grafflmarkt\n\nMontag\, 1. Mai 2023 von 11 bis 16
  Uhr findet wieder der beliebte Grafflmarkt im Meisenweg statt. Wer Kunst\
 , Kitsch &amp\; Kuriositäten feilbieten möchte\, kann sich ab sofort ein
 en Platz reservieren bei:\nWaltraud Frohring Tel:09104 1064 Mail: GWFrohri
 ng@gmx.de\nDie Standgebühr beträgt 5 Euro. Kinder mit kindgerechtem Ange
 bot bekommen die Gebühr nach Standaufbau zurück.\n\nInfos unter: https:/
 /www.fwg-oberreichenbach.de/
ATTACH;FMTTYPE=image/jpeg:https://www.flohmarktkalender.com/wp-content/upl
 oads/2023/04/Graffl2023.png
CATEGORIES:Flohmarkt
LOCATION:91097 Oberreichenbach\, 91097 Oberreichenbach\, Oberreichenbach\, 
 Erlangen-Höchstadt\, 91097\, Bayern\, Deutschland
GEO:49.588485;10.768738
X-APPLE-STRUCTURED-LOCATION;VALUE=URI;X-ADDRESS=91097 Oberreichenbach\, Obe
 rreichenbach\, Erlangen-Höchstadt\, 91097\, Bayern\, Deutschland;X-APPLE-
 RADIUS=100;X-TITLE=91097 Oberreichenbach:geo:49.588485,10.768738
END:VEVENT
BEGIN:VTIMEZONE
TZID:Europe/Berlin
X-LIC-LOCATION:Europe/Berlin
BEGIN:DAYLIGHT
DTSTART:20230326T030000
TZOFFSETFROM:+0100
TZOFFSETTO:+0200
TZNAME:CEST
END:DAYLIGHT
END:VTIMEZONE
END:VCALENDAR