BEGIN:VCALENDAR
VERSION:2.0
PRODID:-//wp-events-plugin.com//7.2.3.1//EN
TZID:Europe/Berlin
X-WR-TIMEZONE:Europe/Berlin
BEGIN:VEVENT
UID:592@flohmarktkalender.com
DTSTART;TZID=Europe/Berlin:20250329T100000
DTEND;TZID=Europe/Berlin:20250329T150000
DTSTAMP:20250221T170332Z
URL:https://www.flohmarktkalender.com/termin/troedel-flohmarkt-augsburg/
SUMMARY:Trödel-Flohmarkt Augsburg
DESCRIPTION:Trödel-Flohmarkt Augsburg\nHallo Flohmarkt Freunde 🚲🛹
 🧸👟\n\nEs ist soweit\, der erste Flohmarkt im Jahr 2025!!\nWir freuen
  uns sehr darauf auch dieses Jahr mit euch zahlreiche tolle Märkte zu hab
 en🥳\n\nTermin ist der 29.03.25 in Augsburg\, Holzbachstr.3\n\n🌷Aufba
 u von 8:30 - 10:00 Uhr\nGeöffnet für Besucher von 10:00 - 15:00 Uhr\n\nA
 nmeldung bitte online unter:\nwww.mp-locations.de\n\n-&gt\; der Flohmarkt 
 findet in einer Halle mit einer Fläche von 2000qm statt\n\nWir freuen uns
  schon auf euch🌷\n\nAdresse: Holzbachstr. 3 86152 Augsburg - Postgelän
 de gegenüber des Augsburger Plärrer
ATTACH;FMTTYPE=image/jpeg:https://www.flohmarktkalender.com/wp-content/upl
 oads/2025/02/Flohmarkt29.03.png
CATEGORIES:Flohmarkt
LOCATION:86152 Augsburg\, 86152 Augsburg\, Augsburg\, Augsburg\, 86152\, Ba
 yern\, Deutschland
GEO:48.371906;10.895044
X-APPLE-STRUCTURED-LOCATION;VALUE=URI;X-ADDRESS=86152 Augsburg\, Augsburg\,
  Augsburg\, 86152\, Bayern\, Deutschland;X-APPLE-RADIUS=100;X-TITLE=86152 
 Augsburg:geo:48.371906,10.895044
END:VEVENT
BEGIN:VTIMEZONE
TZID:Europe/Berlin
X-LIC-LOCATION:Europe/Berlin
BEGIN:STANDARD
DTSTART:20241027T020000
TZOFFSETFROM:+0200
TZOFFSETTO:+0100
TZNAME:CET
END:STANDARD
END:VTIMEZONE
END:VCALENDAR